BEGIN:VCALENDAR
VERSION:2.0
PRODID:-//Sabre//Sabre VObject 4.5.8//EN
CALSCALE:GREGORIAN
BEGIN:VTIMEZONE
TZID:Europe/Zurich
X-LIC-LOCATION:Europe/Zurich
TZURL:http://tzurl.org/zoneinfo/Europe/Zurich
BEGIN:DAYLIGHT
TZOFFSETFROM:+0100
TZOFFSETTO:+0200
TZNAME:CEST
DTSTART:19810329T020000
RRULE:FREQ=YEARLY;BYMONTH=3;BYDAY=-1SU
END:DAYLIGHT
BEGIN:STANDARD
TZOFFSETFROM:+0200
TZOFFSETTO:+0100
TZNAME:CET
DTSTART:19961027T030000
RRULE:FREQ=YEARLY;BYMONTH=10;BYDAY=-1SU
END:STANDARD
END:VTIMEZONE
BEGIN:VEVENT
UID:news2018@dmi.unibas.ch
DTSTAMP;TZID=Europe/Zurich:20260408T104157
DTSTART;TZID=Europe/Zurich:20260416T141500
SUMMARY:Number Theory Seminar: Harry Schmidt (University of Warwick)
DESCRIPTION:Title: Sum-product phenomena in algebraic groups.\\r\\nAbstract
 : In joint work with Harrison and Mudgal we prove generalisations of sum-p
 roduct  type bounds to algebraic groups of dimension 1. This has applicat
 ions to a question of Bremner on the incongruence of different group struc
 tures. \\r\\nSeminarraum 05.002\, Spiegelgasse 5
X-ALT-DESC:<h2>Title: Sum-product phenomena in algebraic groups.</h2>\n<p><
 br />Abstract: In joint work with Harrison and Mudgal we prove generalisat
 ions of sum-product &nbsp\;type bounds to algebraic groups of dimension 1.
  This has applications to a question of Bremner on the incongruence of dif
 ferent group structures.<br />&nbsp\;</p>\n<p>Seminarraum 05.002\, Spiegel
 gasse 5</p>
DTEND;TZID=Europe/Zurich:20260416T151500
END:VEVENT
END:VCALENDAR
