BEGIN:VCALENDAR
VERSION:2.0
PRODID:-//Sabre//Sabre VObject 4.5.8//EN
CALSCALE:GREGORIAN
BEGIN:VTIMEZONE
TZID:Europe/Zurich
X-LIC-LOCATION:Europe/Zurich
TZURL:http://tzurl.org/zoneinfo/Europe/Zurich
BEGIN:DAYLIGHT
TZOFFSETFROM:+0100
TZOFFSETTO:+0200
TZNAME:CEST
DTSTART:19810329T020000
RRULE:FREQ=YEARLY;BYMONTH=3;BYDAY=-1SU
END:DAYLIGHT
BEGIN:STANDARD
TZOFFSETFROM:+0200
TZOFFSETTO:+0100
TZNAME:CET
DTSTART:19961027T030000
RRULE:FREQ=YEARLY;BYMONTH=10;BYDAY=-1SU
END:STANDARD
END:VTIMEZONE
BEGIN:VEVENT
UID:news2019@dmi.unibas.ch
DTSTAMP;TZID=Europe/Zurich:20260408T114650
DTSTART;TZID=Europe/Zurich:20260407T161500
SUMMARY:From Paper to Product: What Happens When AI Research Meets the Real
  World
DESCRIPTION:Billions are flowing into AI\, yet 95% of enterprise GenAI init
 iatives show no measurable business impact. If AI research is advancing so
  fast\, why are companies still struggling to turn it into real value? In 
 this talk\, Romano Roth\, Chief of Cybernetic Transformation & Partner at 
 Zühlke\, shares candid insights from the front lines of AI adoption in in
 dustry. He explores the gap between what AI can do in a lab and what it ta
 kes to make it work in practice\, where organizational complexity\, legacy
  systems\, data quality\, and human factors create challenges that no pape
 r ever mentions. Drawing on real-world examples\, recent research (includi
 ng MIT's State of AI in Business report and Harvard's work on AI-augmented
  teams)\, and his own experience helping companies become "Cybernetic Ente
 rprises"\, Romano offers a honest look at where AI truly delivers value\, 
 where it fails\, and what this means for the next generation of computer s
 cientists moving from academia to industry.Expect an interactive session w
 ith room for questions\, discussion\, and a few uncomfortable truths about
  AI hype.\\r\\nRomano Roth [https://romanoroth.com/en/]
X-ALT-DESC:<p>Billions are flowing into AI\, yet 95% of enterprise GenAI in
 itiatives show no measurable business impact. If AI research is advancing 
 so fast\, why are companies still struggling to turn it into real value? I
 n this talk\, Romano Roth\, Chief of Cybernetic Transformation &amp\; Part
 ner at Zühlke\, shares candid insights from the front lines of AI adoptio
 n in industry. He explores the gap between what AI can do in a lab and wha
 t it takes to make it work in practice\, where organizational complexity\,
  legacy systems\, data quality\, and human factors create challenges that 
 no paper ever mentions. Drawing on real-world examples\, recent research (
 including MIT's State of AI in Business report and Harvard's work on AI-au
 gmented teams)\, and his own experience helping companies become "Cybernet
 ic Enterprises"\, Romano offers a honest look at where AI truly delivers v
 alue\, where it fails\, and what this means for the next generation of com
 puter scientists moving from academia to industry.<br />Expect an interact
 ive session with room for questions\, discussion\, and a few uncomfortable
  truths about AI hype.</p>\n<p><a href="https://romanoroth.com/en/">Romano
  Roth</a></p>
END:VEVENT
END:VCALENDAR
